{"text_format":"3","workbook":"xlsx","n_sheets":4,"sheets":["Ottelukaavio","1 kenttä, 1 lohko, 6 joukkuetta","2 kenttää 1 lohkoa 6 joukk","3 kenttää 1 lohkoa 6 joukkuetta"],"not_rendered":{"images":2,"comments":1},"read":"whole","date_system":"1900"}

{"sheet":"Ottelukaavio","index":0,"n_rows":23,"n_cols":29,"rows_kept":23,"merged":[[0,3,0,10],[1,3,1,10],[2,3,2,10],[3,3,3,10],[7,13,7,23],[7,24,7,25],[7,26,7,27],[7,28,7,29],[7,30,7,31],[8,3,8,7],[8,11,8,12],[8,13,8,17],[8,19,8,23],[8,24,8,25],[8,26,8,27],[8,28,8,29],[9,0,9,1],[9,11,9,12],[9,13,9,17],[9,19,9,23],[9,24,9,25],[9,26,9,27],[9,28,9,29],[10,11,10,12],[10,13,10,17],[10,19,10,23],[10,24,10,25],[10,26,10,27],[10,28,10,29],[11,11,11,12],[11,13,11,17],[11,19,11,23],[11,24,11,25],[11,26,11,27],[11,28,11,29],[12,11,12,12],[12,13,12,17],[12,19,12,23],[12,24,12,25],[12,26,12,27],[12,28,12,29],[13,11,13,12],[13,13,13,17],[13,19,13,23],[13,24,13,25],[13,26,13,27],[13,28,13,29],[14,11,14,12],[14,13,14,17],[14,19,14,23],[14,24,14,25],[14,26,14,27],[14,28,14,29],[15,11,15,12],[15,13,15,17],[15,19,15,23],[15,24,15,25],[15,26,15,27],[15,28,15,29],[16,0,16,1],[16,11,16,12],[16,13,16,17],[16,19,16,23],[16,24,16,25],[16,26,16,27],[16,28,16,29],[17,11,17,12],[17,13,17,17],[17,19,17,23],[17,24,17,25],[17,26,17,27],[17,28,17,29],[18,11,18,12],[18,13,18,17],[18,19,18,23],[18,24,18,25],[18,26,18,27],[18,28,18,29],[19,11,19,12],[19,13,19,17],[19,19,19,23],[19,24,19,25],[19,26,19,27],[19,28,19,29],[20,11,20,12],[20,13,20,17],[20,19,20,23],[20,24,20,25],[20,26,20,27],[20,28,20,29],[21,11,21,12],[21,13,21,17],[21,19,21,23],[21,24,21,25],[21,26,21,27],[21,28,21,29],[22,11,22,12],[22,13,22,17],[22,19,22,23],[22,24,22,25],[22,26,22,27],[22,28,22,29],[23,0,23,1],[23,11,23,12],[23,13,23,17],[23,19,23,23],[23,24,23,25],[23,26,23,27],[23,28,23,29]]}
[{"$nulls":3},"OTTELUOHJELMAT"]
[{"$nulls":3},"1 kenttä, 1 lohko, 6 joukkuetta"]
[{"$nulls":3},"2 kenttää, 1 lohkoa, 6 joukkuetta"]
[{"$nulls":3},"3 kenttää, 1 lohkoa, 6 joukkuetta"]
[]
[]
[]
[{"$nulls":13},"LOHKO 1           OTTELUT",{"$nulls":10},"tulos",null,"1erä",null,"2erä"]
[{"$nulls":3},"Ottelujärjestys",{"$nulls":7},1,null,{"$f":"B11","v":"A/Raision Loimu"},{"$nulls":4},"-",{"$f":"B12","v":"B/Salon Viesti"}]
["LOHKO 1",{"$nulls":3},"A","B","C","D","E","F",null,2,null,{"$f":"B15","v":"E/Kosken Kaiku"},{"$nulls":4},"-",{"$f":"B13","v":"C/Rikalavolley"}]
[1,"A/Raision Loimu",null,"A",null,1,null,7,null,13,null,3,null,{"$f":"B16","v":"F/ Loimaan Jankko"},{"$nulls":4},"-",{"$f":"B14","v":"D/Maskun Kataja"}]
[2,"B/Salon Viesti",null,"B",null,null,8,null,14,4,null,4,null,{"$f":"B12","v":"B/Salon Viesti"},{"$nulls":4},"-",{"$f":"B16","v":"F/ Loimaan Jankko"}]
[3,"C/Rikalavolley",null,"C",5,null,null,15,{"$nulls":3},5,null,{"$f":"B13","v":"C/Rikalavolley"},{"$nulls":4},"-",{"$f":"B11","v":"A/Raision Loimu"}]
[4,"D/Maskun Kataja",null,"D",null,10,null,null,6,null,null,6,null,{"$f":"B14","v":"D/Maskun Kataja"},{"$nulls":4},"-",{"$f":"B15","v":"E/Kosken Kaiku"}]
[5,"E/Kosken Kaiku",null,"E",11,null,2,null,null,9,null,7,null,{"$f":"B11","v":"A/Raision Loimu"},{"$nulls":4},"-",{"$f":"B14","v":"D/Maskun Kataja"}]
[6,"F/ Loimaan Jankko",null,"F",null,null,12,3,{"$nulls":3},8,null,{"$f":"B12","v":"B/Salon Viesti"},{"$nulls":4},"-",{"$f":"B13","v":"C/Rikalavolley"}]
[{"$nulls":11},9,null,{"$f":"B15","v":"E/Kosken Kaiku"},{"$nulls":4},"-",{"$f":"B16","v":"F/ Loimaan Jankko"}]
[{"$nulls":11},10,null,{"$f":"B14","v":"D/Maskun Kataja"},{"$nulls":4},"-",{"$f":"B12","v":"B/Salon Viesti"}]
[{"$nulls":11},11,null,{"$f":"B15","v":"E/Kosken Kaiku"},{"$nulls":4},"-",{"$f":"B11","v":"A/Raision Loimu"}]
[{"$nulls":11},12,null,{"$f":"B16","v":"F/ Loimaan Jankko"},{"$nulls":4},"-",{"$f":"B13","v":"C/Rikalavolley"}]
[{"$nulls":11},13,null,{"$f":"B11","v":"A/Raision Loimu"},{"$nulls":4},"-",{"$f":"B16","v":"F/ Loimaan Jankko"}]
[{"$nulls":11},14,null,{"$f":"B12","v":"B/Salon Viesti"},{"$nulls":4},"-",{"$f":"B15","v":"E/Kosken Kaiku"}]
[{"$nulls":11},15,null,{"$f":"B13","v":"C/Rikalavolley"},{"$nulls":4},"-",{"$f":"B14","v":"D/Maskun Kataja"}]

{"sheet":"1 kenttä, 1 lohko, 6 joukkuetta","index":1,"n_rows":49,"n_cols":7,"rows_kept":49,"merged":[[4,0,5,0],[7,0,8,0],[10,0,11,0],[13,0,14,0],[16,0,17,0],[19,0,20,0],[22,0,23,0],[25,0,26,0],[28,0,29,0],[31,0,32,0],[34,0,35,0],[37,0,38,0],[40,0,41,0],[43,0,44,0],[46,0,47,0]]}
["OTTELUOHJELMA 1 kentälle, 1 lohko, 6 joukkuetta"]
["Kaikille 1-5 peliä"]
[]
["Klo","Ottelupari",null,"Tulos","1erä","2erä","yhteensä"]
["10:00 - 10:30",{"$f":"Ottelukaavio!N9","v":"A/Raision Loimu"}]
[null,{"$f":"Ottelukaavio!T9","v":"B/Salon Viesti"}]
[]
["10:30 - 11:00",{"$f":"Ottelukaavio!N10","v":"E/Kosken Kaiku"}]
[null,{"$f":"Ottelukaavio!T10","v":"C/Rikalavolley"}]
[]
["11:00 - 11:30",{"$f":"Ottelukaavio!N11","v":"F/ Loimaan Jankko"}]
[null,{"$f":"Ottelukaavio!T11","v":"D/Maskun Kataja"}]
[]
["11:30 - 12:00",{"$f":"Ottelukaavio!N12","v":"B/Salon Viesti"}]
[null,{"$f":"Ottelukaavio!T12","v":"F/ Loimaan Jankko"}]
[]
["12:00 - 12:30",{"$f":"Ottelukaavio!N13","v":"C/Rikalavolley"}]
[null,{"$f":"Ottelukaavio!T13","v":"A/Raision Loimu"}]
[]
["12:30 - 13:00",{"$f":"Ottelukaavio!N14","v":"D/Maskun Kataja"}]
[null,{"$f":"Ottelukaavio!T14","v":"E/Kosken Kaiku"}]
[null,"Tähän mennessä kaikilla 2 peliä"]
["13:00 - 13:30",{"$f":"Ottelukaavio!N15","v":"A/Raision Loimu"}]
[null,{"$f":"Ottelukaavio!T15","v":"D/Maskun Kataja"}]
[]
["13:30 - 14:00",{"$f":"Ottelukaavio!N16","v":"B/Salon Viesti"}]
[null,{"$f":"Ottelukaavio!T16","v":"C/Rikalavolley"}]
[]
["14:00 - 14:30",{"$f":"Ottelukaavio!N17","v":"E/Kosken Kaiku"}]
[null,{"$f":"Ottelukaavio!T17","v":"F/ Loimaan Jankko"}]
[null,"Tähän mennessä kaikilla 3 peliä"]
["14:30 - 15:00",{"$f":"Ottelukaavio!N18","v":"D/Maskun Kataja"}]
[null,{"$f":"Ottelukaavio!T18","v":"B/Salon Viesti"}]
[]
["15:00 - 15:30",{"$f":"Ottelukaavio!N19","v":"E/Kosken Kaiku"}]
[null,{"$f":"Ottelukaavio!T19","v":"A/Raision Loimu"}]
[]
["15:30 - 16:00",{"$f":"Ottelukaavio!N20","v":"F/ Loimaan Jankko"}]
[null,{"$f":"Ottelukaavio!T20","v":"C/Rikalavolley"}]
[null,"Tähän mennessä kaikilla 4 peliä"]
["16:00-16:30",{"$f":"Ottelukaavio!N21","v":"A/Raision Loimu"}]
[null,{"$f":"Ottelukaavio!T21","v":"F/ Loimaan Jankko"}]
[]
["16:30 - 17:00",{"$f":"Ottelukaavio!N22","v":"B/Salon Viesti"}]
[null,{"$f":"Ottelukaavio!T22","v":"E/Kosken Kaiku"}]
[]
["17:00 -17:30",{"$f":"Ottelukaavio!N23","v":"C/Rikalavolley"}]
[null,{"$f":"Ottelukaavio!T23","v":"D/Maskun Kataja"}]
[null,"Tähän mennessä kaikilla 5 peliä"]

{"sheet":"2 kenttää 1 lohkoa 6 joukk","index":2,"n_rows":49,"n_cols":8,"rows_kept":49,"merged":[[4,0,5,0],[4,1,5,1],[7,0,8,0],[7,1,8,1],[10,0,11,0],[10,1,11,1],[13,0,14,0],[13,1,14,1],[16,0,17,0],[16,1,17,1],[19,0,20,0],[19,1,20,1],[22,0,23,0],[22,1,23,1],[25,0,26,0],[25,1,26,1],[28,0,29,0],[28,1,29,1],[30,0,30,7],[31,0,32,0],[31,1,32,1],[34,0,35,0],[34,1,35,1],[37,0,38,0],[37,1,38,1],[40,0,41,0],[40,1,41,1],[43,0,44,0],[43,1,44,1],[46,0,47,0],[46,1,47,1]]}
["OTTELUOHJELMA 2 kenttälle, 1 lohko, 6 joukkuetta"]
["Kaikille 2/4/5 peliä"]
[]
["Klo","Kenttä","Ottelupari",null,"Tulos","1erä","2erä","yhteensä"]
["10:00 - 10:30",1,{"$f":"Ottelukaavio!N9","v":"A/Raision Loimu"}]
[null,null,{"$f":"Ottelukaavio!T9","v":"B/Salon Viesti"}]
[]
["10:00 - 10:30",2,{"$f":"Ottelukaavio!N10","v":"E/Kosken Kaiku"}]
[null,null,{"$f":"Ottelukaavio!T10","v":"C/Rikalavolley"}]
[]
["10:30 - 11:00",1,{"$f":"Ottelukaavio!N11","v":"F/ Loimaan Jankko"}]
[null,null,{"$f":"Ottelukaavio!T11","v":"D/Maskun Kataja"}]
[]
["10:30 - 11:00",2,{"$f":"Ottelukaavio!N13","v":"C/Rikalavolley"}]
[null,null,{"$f":"Ottelukaavio!T13","v":"A/Raision Loimu"}]
[]
["11:00 - 11:30",1,{"$f":"Ottelukaavio!N12","v":"B/Salon Viesti"}]
[null,null,{"$f":"Ottelukaavio!T12","v":"F/ Loimaan Jankko"}]
[]
["11:00 - 11:30",2,{"$f":"Ottelukaavio!N14","v":"D/Maskun Kataja"}]
[null,null,{"$f":"Ottelukaavio!T14","v":"E/Kosken Kaiku"}]
[]
["11:30 - 12:00",1,{"$f":"Ottelukaavio!N15","v":"A/Raision Loimu"}]
[null,null,{"$f":"Ottelukaavio!T15","v":"D/Maskun Kataja"}]
[]
["11:30 - 12:00",2,{"$f":"Ottelukaavio!N16","v":"B/Salon Viesti"}]
[null,null,{"$f":"Ottelukaavio!T16","v":"C/Rikalavolley"}]
[]
["12:00 - 12:30",1,{"$f":"Ottelukaavio!N17","v":"E/Kosken Kaiku"}]
[null,null,{"$f":"Ottelukaavio!T17","v":"F/ Loimaan Jankko"}]
["Tähän mennessä kaikilla 3 peliä"]
["12:00 - 12:30",2,{"$f":"Ottelukaavio!N18","v":"D/Maskun Kataja"}]
[null,null,{"$f":"Ottelukaavio!T18","v":"B/Salon Viesti"}]
[]
["12:30 - 13:00",1,{"$f":"Ottelukaavio!N19","v":"E/Kosken Kaiku"}]
[null,null,{"$f":"Ottelukaavio!T19","v":"A/Raision Loimu"}]
[]
["12:30 - 13:00",2,{"$f":"Ottelukaavio!N20","v":"F/ Loimaan Jankko"}]
[null,null,{"$f":"Ottelukaavio!T20","v":"C/Rikalavolley"}]
[null,"Tähän mennessä kaikilla 4 peliä"]
["13:00-13:30",1,{"$f":"Ottelukaavio!N21","v":"A/Raision Loimu"}]
[null,null,{"$f":"Ottelukaavio!T21","v":"F/ Loimaan Jankko"}]
[]
["13:00-13:30",2,{"$f":"Ottelukaavio!N22","v":"B/Salon Viesti"}]
[null,null,{"$f":"Ottelukaavio!T22","v":"E/Kosken Kaiku"}]
[]
["13:30-14:00",1,{"$f":"Ottelukaavio!N23","v":"C/Rikalavolley"}]
[null,null,{"$f":"Ottelukaavio!T23","v":"D/Maskun Kataja"}]
[null,"Tähän mennessä kaikilla 5 peliä"]

{"sheet":"3 kenttää 1 lohkoa 6 joukkuetta","index":3,"n_rows":49,"n_cols":8,"rows_kept":49,"merged":[[4,0,5,0],[4,1,5,1],[7,0,8,0],[7,1,8,1],[10,0,11,0],[10,1,11,1],[13,0,14,0],[13,1,14,1],[16,0,17,0],[16,1,17,1],[19,0,20,0],[19,1,20,1],[22,0,23,0],[22,1,23,1],[25,0,26,0],[25,1,26,1],[28,0,29,0],[28,1,29,1],[31,0,32,0],[31,1,32,1],[34,0,35,0],[34,1,35,1],[37,0,38,0],[37,1,38,1],[40,0,41,0],[40,1,41,1],[43,0,44,0],[43,1,44,1],[46,0,47,0],[46,1,47,1]]}
["OTTELUOHJELMA 3 kentälle, 1 lohko, 6 joukkuetta"]
["Kaikille 3/4/5 peliä"]
[]
["Klo","Kenttä","Ottelupari",null,"Tulos","1erä","2erä","yhteensä"]
["10:00 - 10:30",1,{"$f":"Ottelukaavio!N9","v":"A/Raision Loimu"}]
[null,null,{"$f":"Ottelukaavio!T9","v":"B/Salon Viesti"}]
[]
["10:00 - 10:30",2,{"$f":"Ottelukaavio!N10","v":"E/Kosken Kaiku"}]
[null,null,{"$f":"Ottelukaavio!T10","v":"C/Rikalavolley"}]
[]
["10:00 - 10:30",3,{"$f":"Ottelukaavio!N11","v":"F/ Loimaan Jankko"}]
[null,null,{"$f":"Ottelukaavio!T11","v":"D/Maskun Kataja"}]
[]
["10:30 - 11:00",1,{"$f":"Ottelukaavio!N12","v":"B/Salon Viesti"}]
[null,null,{"$f":"Ottelukaavio!T12","v":"F/ Loimaan Jankko"}]
[]
["10:30 - 11:00",2,{"$f":"Ottelukaavio!N13","v":"C/Rikalavolley"}]
[null,null,{"$f":"Ottelukaavio!T13","v":"A/Raision Loimu"}]
[]
["10:30 - 11:00",3,{"$f":"Ottelukaavio!N14","v":"D/Maskun Kataja"}]
[null,null,{"$f":"Ottelukaavio!T14","v":"E/Kosken Kaiku"}]
[]
["11:00 - 11:30",1,{"$f":"Ottelukaavio!N15","v":"A/Raision Loimu"}]
[null,null,{"$f":"Ottelukaavio!T15","v":"D/Maskun Kataja"}]
[]
["11:00 - 11:30",2,{"$f":"Ottelukaavio!N16","v":"B/Salon Viesti"}]
[null,null,{"$f":"Ottelukaavio!T16","v":"C/Rikalavolley"}]
[]
["11:00 - 11:30",3,{"$f":"Ottelukaavio!N17","v":"E/Kosken Kaiku"}]
[null,null,{"$f":"Ottelukaavio!T17","v":"F/ Loimaan Jankko"}]
[null,"Tähän mennessä kaikilla 3 peliä"]
["11:30 - 12:00",1,{"$f":"Ottelukaavio!N18","v":"D/Maskun Kataja"}]
[null,null,{"$f":"Ottelukaavio!T18","v":"B/Salon Viesti"}]
[]
["11:30 - 12:00",2,{"$f":"Ottelukaavio!N19","v":"E/Kosken Kaiku"}]
[null,null,{"$f":"Ottelukaavio!T19","v":"A/Raision Loimu"}]
[]
["11:30 - 12:00",3,{"$f":"Ottelukaavio!N20","v":"F/ Loimaan Jankko"}]
[null,null,{"$f":"Ottelukaavio!T20","v":"C/Rikalavolley"}]
[null,"Tähän mennessä kaikilla 4 peliä"]
["12:00-12:30",1,{"$f":"Ottelukaavio!N21","v":"A/Raision Loimu"}]
[null,null,{"$f":"Ottelukaavio!T21","v":"F/ Loimaan Jankko"}]
[]
["12:00-12:30",2,{"$f":"Ottelukaavio!N22","v":"B/Salon Viesti"}]
[null,null,{"$f":"Ottelukaavio!T22","v":"E/Kosken Kaiku"}]
[]
["12:00-12:30",3,{"$f":"Ottelukaavio!N23","v":"C/Rikalavolley"}]
[null,null,{"$f":"Ottelukaavio!T23","v":"D/Maskun Kataja"}]
[null,"Tähän mennessä kaikilla 5 peliä"]