{"text_format":"3","workbook":"xlsx","n_sheets":6,"sheets":["Ottelukaavio","1 kenttä, 1 lohko, 4 joukkuett","2 kenttää 2 lohkoa 8 joukk","2 kenttää 3 lohkoa 9 joukk","3 kenttää 3 lohkoa 9 joukk","3 kenttää 3 lohkoa 12 joukk"],"not_rendered":{"images":2,"external_links":1,"comments":1},"read":"whole","date_system":"1900"}

{"sheet":"Ottelukaavio","index":0,"n_rows":26,"n_cols":27,"rows_kept":26,"merged":[[0,3,0,10],[1,3,1,10],[2,3,2,10],[3,3,3,10],[4,3,4,10],[5,3,5,10],[7,11,7,21],[7,22,7,23],[7,24,7,25],[7,26,7,27],[7,28,7,29],[8,2,28,2],[8,3,8,7],[8,9,8,10],[8,11,8,15],[8,17,8,21],[8,22,8,23],[8,24,8,25],[8,26,8,27],[9,0,9,1],[9,9,9,10],[9,11,9,15],[9,17,9,21],[9,22,9,23],[9,24,9,25],[9,26,9,27],[10,9,10,10],[10,11,10,15],[10,17,10,21],[10,22,10,23],[10,24,10,25],[10,26,10,27],[11,9,11,10],[11,11,11,15],[11,17,11,21],[11,22,11,23],[11,24,11,25],[11,26,11,27],[12,9,12,10],[12,11,12,15],[12,17,12,21],[12,22,12,23],[12,24,12,25],[12,26,12,27],[13,9,13,10],[13,11,13,15],[13,17,13,21],[13,22,13,23],[13,24,13,25],[13,26,13,27],[14,0,14,1],[14,9,14,10],[14,11,14,15],[14,17,14,21],[14,22,14,23],[14,24,14,25],[14,26,14,27],[15,9,15,10],[15,11,15,15],[15,17,15,21],[15,22,15,23],[15,24,15,25],[15,26,15,27],[16,9,16,10],[16,11,16,15],[16,17,16,21],[16,22,16,23],[16,24,16,25],[16,26,16,27],[17,9,17,10],[17,11,17,15],[17,17,17,21],[17,22,17,23],[17,24,17,25],[17,26,17,27],[18,9,18,10],[18,11,18,15],[18,17,18,21],[18,22,18,23],[18,24,18,25],[18,26,18,27],[19,0,19,1],[19,9,19,10],[19,11,19,15],[19,17,19,21],[19,22,19,23],[19,24,19,25],[19,26,19,27],[20,9,20,10],[20,11,20,15],[20,17,20,21],[20,22,20,23],[20,24,20,25],[20,26,20,27],[21,9,21,10],[21,11,21,15],[21,17,21,21],[21,22,21,23],[21,24,21,25],[21,26,21,27],[22,9,22,10],[22,11,22,15],[22,17,22,21],[22,22,22,23],[22,24,22,25],[22,26,22,27],[23,9,23,10],[23,11,23,15],[23,17,23,21],[23,22,23,23],[23,24,23,25],[23,26,23,27],[24,0,24,1],[24,9,24,10],[24,11,24,15],[24,17,24,21],[24,22,24,23],[24,24,24,25],[24,26,24,27],[25,9,25,10],[25,11,25,15],[25,17,25,21],[25,22,25,23],[25,24,25,25],[25,26,25,27],[26,9,26,10],[26,11,26,15],[26,17,26,21],[26,22,26,23],[26,24,26,25],[26,26,26,27],[27,9,27,10],[27,11,27,15],[27,17,27,21],[27,22,27,23],[27,24,27,25],[27,26,27,27],[28,9,28,10],[28,11,28,15],[28,17,28,21],[28,22,28,23],[28,24,28,25],[28,26,28,27],[29,9,29,10],[29,11,29,15],[29,17,29,21],[29,22,29,23],[29,24,29,25],[29,26,29,27],[30,9,30,10],[30,11,30,15],[30,17,30,21],[30,22,30,23],[30,24,30,25],[30,26,30,27],[31,9,31,10],[31,11,31,15],[31,17,31,21],[31,22,31,23],[31,24,31,25],[31,26,31,27]]}
[{"$nulls":3},"OTTELUOHJELMAT"]
[{"$nulls":3},"1 kenttä, 1 lohko, 4 joukkuetta"]
[{"$nulls":3},"2 kenttää, 2 lohkoa, 8 joukkuetta"]
[{"$nulls":3},"2 kenttää, 3 lohkoa, 9 joukkuetta"]
[{"$nulls":3},"3 kenttää, 3 lohkoa, 9 joukkuetta"]
[{"$nulls":3},"3 kenttää, 3 lohkoa, 12 joukkuetta"]
[]
[{"$nulls":11},"OTTELUT",{"$nulls":10},"tulos",null,"1erä",null,"2erä"]
[{"$nulls":3},"Ottelujärjestys",{"$nulls":4},1,1,null,{"$f":"B11","v":"A/Puijo-Volley"},{"$nulls":4},"-",{"$f":"B12","v":"B/Salmi-Volley"}]
["LOHKO 1",{"$nulls":3},"A","B","C","D",null,2,null,{"$f":"B13","v":"C/Luomu-Wolley "},{"$nulls":4},"-",{"$f":"B14","v":"D/ Leppävirran Viri"}]
[1,"A/Puijo-Volley",null,"A",{"$nulls":3},4,4,3,null,{"$f":"B12","v":"B/Salmi-Volley"},{"$nulls":4},"-",{"$f":"B13","v":"C/Luomu-Wolley "}]
[2,"B/Salmi-Volley",null,"B",1,{"$nulls":4},4,null,{"$f":"B14","v":"D/ Leppävirran Viri"},{"$nulls":4},"-",{"$f":"B11","v":"A/Puijo-Volley"}]
[3,"C/Luomu-Wolley ",null,"C",5,3,null,null,7,5,null,{"$f":"B11","v":"A/Puijo-Volley"},{"$nulls":4},"-",{"$f":"B13","v":"C/Luomu-Wolley "}]
[4,"D/ Leppävirran Viri",null,"D",null,6,2,null,null,6,null,{"$f":"B12","v":"B/Salmi-Volley"},{"$nulls":4},"-",{"$f":"B14","v":"D/ Leppävirran Viri"}]
["LOHKO 2",{"$nulls":3},"E","F","G","H",2,1,null,{"$f":"B16","v":"E/Maaningan Mahti"},{"$nulls":4},"-",{"$f":"B17","v":"F/Pielaveden Sampo "}]
[5,"E/Maaningan Mahti",null,"E",{"$nulls":3},4,null,2,null,{"$f":"B18","v":"G/Varkauden NMKY"},{"$nulls":4},"-",{"$f":"B19","v":"H/ Mäntyharjun Virkistys"}]
[6,"F/Pielaveden Sampo ",null,"F",1,{"$nulls":3},5,3,null,{"$f":"B17","v":"F/Pielaveden Sampo "},{"$nulls":4},"-",{"$f":"B18","v":"G/Varkauden NMKY"}]
[7,"G/Varkauden NMKY",null,"G",5,3,{"$nulls":3},4,null,{"$f":"B19","v":"H/ Mäntyharjun Virkistys"},{"$nulls":4},"-",{"$f":"B16","v":"E/Maaningan Mahti"}]
[8,"H/ Mäntyharjun Virkistys",null,"H",null,6,2,null,8,5,null,{"$f":"B16","v":"E/Maaningan Mahti"},{"$nulls":4},"-",{"$f":"B18","v":"G/Varkauden NMKY"}]
["LOHKO 3",{"$nulls":3},"I","J","K","L",null,6,null,{"$f":"B17","v":"F/Pielaveden Sampo "},{"$nulls":4},"-",{"$f":"B19","v":"H/ Mäntyharjun Virkistys"}]
[9,"I/Vesilahden Visa ",null,"I",{"$nulls":3},4,3,1,null,{"$f":"B21","v":"I/Vesilahden Visa "},{"$nulls":4},"-",{"$f":"B22","v":"J/Lempäälän Kisa "}]
[10,"J/Lempäälän Kisa ",null,"J",1,{"$nulls":4},2,null,{"$f":"B23","v":"K/A-Volley"},{"$nulls":4},"-",{"$f":"B24","v":"L/ LP Kangasala"}]
[11,"K/A-Volley",null,"K",5,3,null,null,6,3,null,{"$f":"B22","v":"J/Lempäälän Kisa "},{"$nulls":4},"-",{"$f":"B23","v":"K/A-Volley"}]
[12,"L/ LP Kangasala",null,"L",null,6,2,null,null,4,null,{"$f":"B24","v":"L/ LP Kangasala"},{"$nulls":4},"-",{"$f":"B21","v":"I/Vesilahden Visa "}]
[{"$nulls":8},9,5,null,{"$f":"B21","v":"I/Vesilahden Visa "},{"$nulls":4},"-",{"$f":"B23","v":"K/A-Volley"}]
[{"$nulls":9},6,null,{"$f":"B22","v":"J/Lempäälän Kisa "},{"$nulls":4},"-",{"$f":"B24","v":"L/ LP Kangasala"}]

{"sheet":"1 kenttä, 1 lohko, 4 joukkuett","index":1,"n_rows":21,"n_cols":7,"rows_kept":21,"merged":[[4,0,5,0],[7,0,8,0],[10,0,11,0],[13,0,14,0],[16,0,17,0],[19,0,20,0]]}
["OTTELUOHJELMA 1 kentälle, 1 lohko, 4 joukkuetta"]
["Kaikille 3 peliä"]
[]
["Klo","Ottelupari",null,"Tulos","1erä","2erä","yhteensä"]
["10:00 - 10:30",{"$f":"Ottelukaavio!L9","v":"A/Puijo-Volley"}]
[null,{"$f":"Ottelukaavio!R9","v":"B/Salmi-Volley"}]
[]
["10:30 - 11:00",{"$f":"Ottelukaavio!L10","v":"C/Luomu-Wolley "}]
[null,{"$f":"Ottelukaavio!R10","v":"D/ Leppävirran Viri"}]
[]
["11:00 - 11:30",{"$f":"Ottelukaavio!L11","v":"B/Salmi-Volley"}]
[null,{"$f":"Ottelukaavio!R11","v":"C/Luomu-Wolley "}]
[]
["11:30 - 12:00",{"$f":"Ottelukaavio!L12","v":"D/ Leppävirran Viri"}]
[null,{"$f":"Ottelukaavio!R12","v":"A/Puijo-Volley"}]
[]
["12:00 - 12:30",{"$f":"Ottelukaavio!L13","v":"A/Puijo-Volley"}]
[null,{"$f":"Ottelukaavio!R13","v":"C/Luomu-Wolley "}]
[]
["12:30 - 13:00",{"$f":"Ottelukaavio!L14","v":"B/Salmi-Volley"}]
[null,{"$f":"Ottelukaavio!R14","v":"D/ Leppävirran Viri"}]

{"sheet":"2 kenttää 2 lohkoa 8 joukk","index":2,"n_rows":39,"n_cols":8,"rows_kept":39,"merged":[[4,0,5,0],[4,1,5,1],[7,0,8,0],[7,1,8,1],[10,0,11,0],[10,1,11,1],[13,0,14,0],[13,1,14,1],[16,0,17,0],[16,1,17,1],[19,0,20,0],[19,1,20,1],[22,0,23,0],[22,1,23,1],[25,0,26,0],[25,1,26,1],[28,0,29,0],[28,1,29,1],[31,0,32,0],[31,1,32,1],[34,0,35,0],[34,1,35,1],[37,0,38,0],[37,1,38,1]]}
["OTTELUOHJELMA 2 kentälle, 2 lohkoa, 8 joukkuetta"]
["Kaikille 3 peliä omassa lohkossa"]
[]
["Klo","Kenttä","Ottelupari",null,"Tulos","1erä","2erä","yhteensä"]
["10:00 - 10:30",1,{"$f":"Ottelukaavio!L9","v":"A/Puijo-Volley"}]
[null,null,{"$f":"Ottelukaavio!R9","v":"B/Salmi-Volley"}]
[]
["10:00 - 10:30",2,{"$f":"Ottelukaavio!L15","v":"E/Maaningan Mahti"}]
[null,null,{"$f":"Ottelukaavio!R15","v":"F/Pielaveden Sampo "}]
[]
["10:30 - 11:00",1,{"$f":"Ottelukaavio!L10","v":"C/Luomu-Wolley "}]
[null,null,{"$f":"Ottelukaavio!R10","v":"D/ Leppävirran Viri"}]
[]
["10:30 - 11:00",2,{"$f":"Ottelukaavio!L16","v":"G/Varkauden NMKY"}]
[null,null,{"$f":"Ottelukaavio!R16","v":"H/ Mäntyharjun Virkistys"}]
[]
["11:00 - 11:30",1,{"$f":"Ottelukaavio!L11","v":"B/Salmi-Volley"}]
[null,null,{"$f":"Ottelukaavio!R11","v":"C/Luomu-Wolley "}]
[]
["11:00 - 11:30",2,{"$f":"Ottelukaavio!L17","v":"F/Pielaveden Sampo "}]
[null,null,{"$f":"Ottelukaavio!R17","v":"G/Varkauden NMKY"}]
[]
["11:30 - 12:00",1,{"$f":"Ottelukaavio!L12","v":"D/ Leppävirran Viri"}]
[null,null,{"$f":"Ottelukaavio!R12","v":"A/Puijo-Volley"}]
[]
["11:30 - 12:00",2,{"$f":"Ottelukaavio!L18","v":"H/ Mäntyharjun Virkistys"}]
[null,null,{"$f":"Ottelukaavio!R18","v":"E/Maaningan Mahti"}]
[]
["12:00 - 12:30",1,{"$f":"Ottelukaavio!L13","v":"A/Puijo-Volley"}]
[null,null,{"$f":"Ottelukaavio!R13","v":"C/Luomu-Wolley "}]
[]
["12:00 - 12:30",2,{"$f":"Ottelukaavio!L19","v":"E/Maaningan Mahti"}]
[null,null,{"$f":"Ottelukaavio!R19","v":"G/Varkauden NMKY"}]
[]
["12:30 - 13:00",1,{"$f":"Ottelukaavio!L14","v":"B/Salmi-Volley"}]
[null,null,{"$f":"Ottelukaavio!R14","v":"D/ Leppävirran Viri"}]
[]
["12:30 - 13:00",2,{"$f":"Ottelukaavio!L20","v":"F/Pielaveden Sampo "}]
[null,null,{"$f":"Ottelukaavio!R20","v":"H/ Mäntyharjun Virkistys"}]

{"sheet":"2 kenttää 3 lohkoa 9 joukk","index":3,"n_rows":59,"n_cols":9,"rows_kept":59,"merged":[[4,0,5,0],[4,1,5,1],[4,2,5,2],[7,0,8,0],[7,1,8,1],[7,2,8,2],[10,0,11,0],[10,1,11,1],[10,2,11,2],[13,0,14,0],[13,1,14,1],[13,2,14,2],[16,0,17,0],[16,1,17,1],[16,2,17,2],[19,0,20,0],[19,1,20,1],[19,2,20,2],[22,0,23,0],[22,1,23,1],[22,2,23,2],[25,0,26,0],[25,1,26,1],[25,2,26,2],[28,0,29,0],[28,1,29,1],[28,2,29,2],[32,0,33,0],[32,2,33,2],[35,0,36,0],[35,2,36,2],[38,0,39,0],[38,2,39,2],[41,0,42,0],[41,2,42,2],[44,0,45,0],[44,2,45,2],[47,0,48,0],[47,2,48,2],[50,0,51,0],[50,2,51,2],[53,0,54,0],[53,2,54,2],[56,0,57,0],[56,2,57,2]]}
["OTTELUOHJELMA 2 kentälle, 3 lohko, 9 joukkuetta"]
["Kaikille 2 peliä omassa lohkossa ja 1-2 peliä sekaisin"]
[]
["Klo","Ottelu","Kenttä","Ottelupari",null,"Tulos","1erä","2erä","yhteensä"]
["10:00 - 10:30",1,1,{"$f":"[1]Ottelukaavio!L9","v":"A/Puijo-Volley"}]
[{"$nulls":3},{"$f":"[1]Ottelukaavio!R9","v":"B/Salmi-Volley"}]
[]
["10:00 - 10:30",2,2,{"$f":"[1]Ottelukaavio!L15","v":"E/Maaningan Mahti"}]
[{"$nulls":3},{"$f":"[1]Ottelukaavio!R15","v":"F/Pielaveden Sampo"}]
[]
["10:30 - 11:00",3,1,{"$f":"[1]Ottelukaavio!L21","v":"I/Vesilahden Visa"}]
[{"$nulls":3},{"$f":"[1]Ottelukaavio!R21","v":"J/Lempäälän Kisa"}]
[]
["10:30 - 11:00",4,2,{"$f":"[1]Ottelukaavio!L11","v":"B/Salmi-Volley"}]
[{"$nulls":3},{"$f":"[1]Ottelukaavio!R11","v":"C/Luomu-Wolley"}]
[]
["11:00 - 11:30",5,1,{"$f":"[1]Ottelukaavio!L17","v":"F/Pielaveden Sampo"}]
[{"$nulls":3},{"$f":"[1]Ottelukaavio!R17","v":"G/Varkauden NMKY"}]
[]
["11:00 - 11:30",6,2,{"$f":"[1]Ottelukaavio!L23","v":"J/Lempäälän Kisa"}]
[{"$nulls":3},{"$f":"[1]Ottelukaavio!R23","v":"K/A-Volley"}]
[]
["11:30 - 12:00",7,1,{"$f":"[1]Ottelukaavio!L13","v":"A/Puijo-Volley"}]
[{"$nulls":3},{"$f":"[1]Ottelukaavio!R13","v":"C/Luomu-Wolley"}]
[]
["11:30 - 12:00",8,2,{"$f":"[1]Ottelukaavio!L19","v":"E/Maaningan Mahti"}]
[{"$nulls":3},{"$f":"[1]Ottelukaavio!R19","v":"G/Varkauden NMKY"}]
[]
["12:00 - 12:30",9,1,{"$f":"[1]Ottelukaavio!L25","v":"I/Vesilahden Visa"}]
[{"$nulls":3},{"$f":"[1]Ottelukaavio!R25","v":"K/A-Volley"}]
[]
["Lohkot sekaisin",null,"Tähän mennessä kaikilla 2 peliä"]
["12:00 - 12:30",null,2,{"$f":"Ottelukaavio!B11","v":"A/Puijo-Volley"}]
[{"$nulls":3},{"$f":"Ottelukaavio!B17","v":"F/Pielaveden Sampo "}]
[]
["12:30 - 13:00",null,1,{"$f":"Ottelukaavio!B23","v":"K/A-Volley"}]
[{"$nulls":3},{"$f":"Ottelukaavio!B12","v":"B/Salmi-Volley"}]
[]
["12:30 - 13:00",null,2,{"$f":"Ottelukaavio!B18","v":"G/Varkauden NMKY"}]
[{"$nulls":3},{"$f":"Ottelukaavio!B21","v":"I/Vesilahden Visa "}]
[]
["13:00 - 13:30",null,1,{"$f":"Ottelukaavio!B13","v":"C/Luomu-Wolley "}]
[{"$nulls":3},{"$f":"Ottelukaavio!B16","v":"E/Maaningan Mahti"}]
[]
["13:00 - 13:30",null,2,{"$f":"Ottelukaavio!B22","v":"J/Lempäälän Kisa "}]
[{"$nulls":3},{"$f":"Ottelukaavio!B11","v":"A/Puijo-Volley"}]
[null,null,"Tähän mennessä kaikilla 3 peliä (A/joukkueelle 4 peliä)"]
["14:00 - 14:30",null,1,{"$f":"Ottelukaavio!B17","v":"F/Pielaveden Sampo "}]
[{"$nulls":3},{"$f":"Ottelukaavio!B23","v":"K/A-Volley"}]
[]
["14:00 - 14:30",null,2,{"$f":"Ottelukaavio!B12","v":"B/Salmi-Volley"}]
[{"$nulls":3},{"$f":"Ottelukaavio!B18","v":"G/Varkauden NMKY"}]
[]
["14:30 - 15:00",null,1,{"$f":"Ottelukaavio!B21","v":"I/Vesilahden Visa "}]
[{"$nulls":3},{"$f":"Ottelukaavio!B13","v":"C/Luomu-Wolley "}]
[]
["14:30 - 15:00",null,2,{"$f":"Ottelukaavio!B16","v":"E/Maaningan Mahti"}]
[{"$nulls":3},{"$f":"Ottelukaavio!B22","v":"J/Lempäälän Kisa "}]
[null,null,"Tähän mennessä kaikilla 4 peliä"]

{"sheet":"3 kenttää 3 lohkoa 9 joukk","index":4,"n_rows":58,"n_cols":8,"rows_kept":58,"merged":[[4,0,5,0],[4,1,5,1],[7,0,8,0],[7,1,8,1],[10,0,11,0],[10,1,11,1],[13,0,14,0],[13,1,14,1],[16,0,17,0],[16,1,17,1],[19,0,20,0],[19,1,20,1],[22,0,23,0],[22,1,23,1],[25,0,26,0],[25,1,26,1],[28,0,29,0],[28,1,29,1],[31,0,32,0],[31,1,32,1],[34,0,35,0],[34,1,35,1],[37,0,38,0],[37,1,38,1],[40,0,41,0],[40,1,41,1],[43,0,44,0],[43,1,44,1],[46,0,47,0],[46,1,47,1],[49,0,50,0],[49,1,50,1],[52,0,53,0],[52,1,53,1],[55,0,56,0],[55,1,56,1]]}
["OTTELUOHJELMA 3 kentälle, 3 lohkoa, 9 joukkuetta"]
["Kaikille 2 peliä omassa lohkossa ja 2 peliä sekaisin"]
[]
["Klo","Kenttä","Ottelupari",null,"Tulos","1erä","2erä","yhteensä"]
["10:00 - 10:30",1,{"$f":"Ottelukaavio!L9","v":"A/Puijo-Volley"}]
[null,null,{"$f":"Ottelukaavio!R9","v":"B/Salmi-Volley"}]
[]
["10:00 - 10:30",2,{"$f":"Ottelukaavio!L15","v":"E/Maaningan Mahti"}]
[null,null,{"$f":"Ottelukaavio!R15","v":"F/Pielaveden Sampo "}]
[]
["10:00 - 10:30",3,{"$f":"Ottelukaavio!L21","v":"I/Vesilahden Visa "}]
[null,null,{"$f":"Ottelukaavio!R21","v":"J/Lempäälän Kisa "}]
[]
["10:30 - 11:00",1,{"$f":"Ottelukaavio!L11","v":"B/Salmi-Volley"}]
[null,null,{"$f":"Ottelukaavio!R11","v":"C/Luomu-Wolley "}]
[]
["10:30 - 11:00",2,{"$f":"Ottelukaavio!L17","v":"F/Pielaveden Sampo "}]
[null,null,{"$f":"Ottelukaavio!R17","v":"G/Varkauden NMKY"}]
[]
["10:30 - 11:00",3,{"$f":"Ottelukaavio!L23","v":"J/Lempäälän Kisa "}]
[null,null,{"$f":"Ottelukaavio!R23","v":"K/A-Volley"}]
[]
["11:00 - 11:30",1,{"$f":"Ottelukaavio!L13","v":"A/Puijo-Volley"}]
[null,null,{"$f":"Ottelukaavio!R13","v":"C/Luomu-Wolley "}]
[]
["11:00 - 11:30",2,{"$f":"Ottelukaavio!L19","v":"E/Maaningan Mahti"}]
[null,null,{"$f":"Ottelukaavio!R19","v":"G/Varkauden NMKY"}]
[]
["11:00 - 11:30",3,{"$f":"Ottelukaavio!L25","v":"I/Vesilahden Visa "}]
[null,null,{"$f":"Ottelukaavio!R25","v":"K/A-Volley"}]
["Lohkot sekaisin",null,"Tähän mennessä kaikilla 2 peliä"]
["11:30 - 12:00",1,{"$f":"Ottelukaavio!B11","v":"A/Puijo-Volley"}]
[null,null,{"$f":"Ottelukaavio!B17","v":"F/Pielaveden Sampo "}]
[]
["11:30 - 12:00",2,{"$f":"Ottelukaavio!B23","v":"K/A-Volley"}]
[null,null,{"$f":"Ottelukaavio!B12","v":"B/Salmi-Volley"}]
[]
["11:30 - 12:00",3,{"$f":"Ottelukaavio!B18","v":"G/Varkauden NMKY"}]
[null,null,{"$f":"Ottelukaavio!B21","v":"I/Vesilahden Visa "}]
[]
["12:00 - 12:30",1,{"$f":"Ottelukaavio!B13","v":"C/Luomu-Wolley "}]
[null,null,{"$f":"Ottelukaavio!B16","v":"E/Maaningan Mahti"}]
[]
["12:00 - 12:30",2,{"$f":"Ottelukaavio!B22","v":"J/Lempäälän Kisa "}]
[null,null,{"$f":"Ottelukaavio!B11","v":"A/Puijo-Volley"}]
[]
["12:00 - 12:30",3,{"$f":"Ottelukaavio!B17","v":"F/Pielaveden Sampo "}]
[null,null,{"$f":"Ottelukaavio!B23","v":"K/A-Volley"}]
[]
["12:30 - 13:00",1,{"$f":"Ottelukaavio!B12","v":"B/Salmi-Volley"}]
[null,null,{"$f":"Ottelukaavio!B18","v":"G/Varkauden NMKY"}]
[]
["12:30 - 13:00",2,{"$f":"Ottelukaavio!B21","v":"I/Vesilahden Visa "}]
[null,null,{"$f":"Ottelukaavio!B13","v":"C/Luomu-Wolley "}]
[]
["12:30 - 13:00",3,{"$f":"Ottelukaavio!B16","v":"E/Maaningan Mahti"}]
[null,null,{"$f":"Ottelukaavio!B22","v":"J/Lempäälän Kisa "}]
[null,null,"Tähän mennessä kaikille 4 peliä"]

{"sheet":"3 kenttää 3 lohkoa 12 joukk","index":5,"n_rows":57,"n_cols":8,"rows_kept":57,"merged":[[4,0,5,0],[4,1,5,1],[7,0,8,0],[7,1,8,1],[10,0,11,0],[10,1,11,1],[13,0,14,0],[13,1,14,1],[16,0,17,0],[16,1,17,1],[19,0,20,0],[19,1,20,1],[22,0,23,0],[22,1,23,1],[25,0,26,0],[25,1,26,1],[28,0,29,0],[28,1,29,1],[31,0,32,0],[31,1,32,1],[34,0,35,0],[34,1,35,1],[37,0,38,0],[37,1,38,1],[40,0,41,0],[40,1,41,1],[43,0,44,0],[43,1,44,1],[46,0,47,0],[46,1,47,1],[49,0,50,0],[49,1,50,1],[52,0,53,0],[52,1,53,1],[55,0,56,0],[55,1,56,1],[58,0,59,0]]}
["OTTELUOHJELMA 3 kentälle, 3 lohkoa, 12 joukkuetta"]
["Kaikille 3 peliä omassa lohkossa"]
[]
["Klo","Kenttä","Ottelupari",null,"Tulos","1erä","2erä","yhteensä"]
["10:00 - 10:30",1,{"$f":"Ottelukaavio!L9","v":"A/Puijo-Volley"}]
[null,null,{"$f":"Ottelukaavio!R9","v":"B/Salmi-Volley"}]
[]
["10:00 - 10:30",2,{"$f":"Ottelukaavio!L15","v":"E/Maaningan Mahti"}]
[null,null,{"$f":"Ottelukaavio!R15","v":"F/Pielaveden Sampo "}]
[]
["10:00 - 10:30",3,{"$f":"Ottelukaavio!L21","v":"I/Vesilahden Visa "}]
[null,null,{"$f":"Ottelukaavio!R21","v":"J/Lempäälän Kisa "}]
[]
["10:30 - 11:00",1,{"$f":"Ottelukaavio!L10","v":"C/Luomu-Wolley "}]
[null,null,{"$f":"Ottelukaavio!R10","v":"D/ Leppävirran Viri"}]
[]
["10:30 - 11:00",2,{"$f":"Ottelukaavio!L16","v":"G/Varkauden NMKY"}]
[null,null,{"$f":"Ottelukaavio!R16","v":"H/ Mäntyharjun Virkistys"}]
[]
["10:30 - 11:00",3,{"$f":"Ottelukaavio!L22","v":"K/A-Volley"}]
[null,null,{"$f":"Ottelukaavio!R22","v":"L/ LP Kangasala"}]
[]
["11:00 - 11:30",1,{"$f":"Ottelukaavio!L11","v":"B/Salmi-Volley"}]
[null,null,{"$f":"Ottelukaavio!R11","v":"C/Luomu-Wolley "}]
[]
["11:00 - 11:30",2,{"$f":"Ottelukaavio!L17","v":"F/Pielaveden Sampo "}]
[null,null,{"$f":"Ottelukaavio!R17","v":"G/Varkauden NMKY"}]
[]
["11:00 - 11:30",3,{"$f":"Ottelukaavio!L23","v":"J/Lempäälän Kisa "}]
[null,null,{"$f":"Ottelukaavio!R23","v":"K/A-Volley"}]
[]
["11:30 - 12:00",1,{"$f":"Ottelukaavio!L12","v":"D/ Leppävirran Viri"}]
[null,null,{"$f":"Ottelukaavio!R12","v":"A/Puijo-Volley"}]
[]
["11:30 - 12:00",2,{"$f":"Ottelukaavio!L18","v":"H/ Mäntyharjun Virkistys"}]
[null,null,{"$f":"Ottelukaavio!R18","v":"E/Maaningan Mahti"}]
[]
["11:30 - 12:00",3,{"$f":"Ottelukaavio!L24","v":"L/ LP Kangasala"}]
[null,null,{"$f":"Ottelukaavio!R24","v":"I/Vesilahden Visa "}]
[]
["12:00 - 12:30",1,{"$f":"Ottelukaavio!L13","v":"A/Puijo-Volley"}]
[null,null,{"$f":"Ottelukaavio!R13","v":"C/Luomu-Wolley "}]
[]
["12:00 - 12:30",2,{"$f":"Ottelukaavio!L19","v":"E/Maaningan Mahti"}]
[null,null,{"$f":"Ottelukaavio!R19","v":"G/Varkauden NMKY"}]
[]
["12:00 - 12:30",3,{"$f":"Ottelukaavio!L25","v":"I/Vesilahden Visa "}]
[null,null,{"$f":"Ottelukaavio!R25","v":"K/A-Volley"}]
[]
["12:30 - 13:00",1,{"$f":"Ottelukaavio!L14","v":"B/Salmi-Volley"}]
[null,null,{"$f":"Ottelukaavio!R14","v":"D/ Leppävirran Viri"}]
[]
["12:30 - 13:00",2,{"$f":"Ottelukaavio!L20","v":"F/Pielaveden Sampo "}]
[null,null,{"$f":"Ottelukaavio!R20","v":"H/ Mäntyharjun Virkistys"}]
[]
["12:30 - 13:00",3,{"$f":"Ottelukaavio!L26","v":"J/Lempäälän Kisa "}]
[null,null,{"$f":"Ottelukaavio!R26","v":"L/ LP Kangasala"}]